BEGIN:VCALENDAR
VERSION:2.0
PRODID:-//Walnut Park Elementary - ECPv6.15.20//NONSGML v1.0//EN
CALSCALE:GREGORIAN
METHOD:PUBLISH
X-ORIGINAL-URL:https://wps.sd54.bc.ca
X-WR-CALDESC:Events for Walnut Park Elementary
REFRESH-INTERVAL;VALUE=DURATION:PT1H
X-Robots-Tag:noindex
X-PUBLISHED-TTL:PT1H
BEGIN:VTIMEZONE
TZID:America/Vancouver
BEGIN:DAYLIGHT
TZOFFSETFROM:-0800
TZOFFSETTO:-0700
TZNAME:PDT
DTSTART:20230312T100000
END:DAYLIGHT
BEGIN:STANDARD
TZOFFSETFROM:-0700
TZOFFSETTO:-0800
TZNAME:PST
DTSTART:20231105T090000
END:STANDARD
BEGIN:DAYLIGHT
TZOFFSETFROM:-0800
TZOFFSETTO:-0700
TZNAME:PDT
DTSTART:20240310T100000
END:DAYLIGHT
BEGIN:STANDARD
TZOFFSETFROM:-0700
TZOFFSETTO:-0800
TZNAME:PST
DTSTART:20241103T090000
END:STANDARD
BEGIN:DAYLIGHT
TZOFFSETFROM:-0800
TZOFFSETTO:-0700
TZNAME:PDT
DTSTART:20250309T100000
END:DAYLIGHT
BEGIN:STANDARD
TZOFFSETFROM:-0700
TZOFFSETTO:-0800
TZNAME:PST
DTSTART:20251102T090000
END:STANDARD
END:VTIMEZONE
BEGIN:VEVENT
DTSTART;TZID=America/Vancouver:20240507T090000
DTEND;TZID=America/Vancouver:20240507T110000
DTSTAMP:20260421T051037
CREATED:20240503T194702Z
LAST-MODIFIED:20240503T194707Z
UID:10000049-1715072400-1715079600@wps.sd54.bc.ca
SUMMARY:Grade 6 Immunization
DESCRIPTION:
URL:https://wps.sd54.bc.ca/event/grade-6-immunization-2/
END:VEVENT
BEGIN:VEVENT
DTSTART;TZID=America/Vancouver:20240507T100000
DTEND;TZID=America/Vancouver:20240507T120000
DTSTAMP:20260421T051037
CREATED:20240503T195125Z
LAST-MODIFIED:20240503T195125Z
UID:10000050-1715076000-1715083200@wps.sd54.bc.ca
SUMMARY:Ready Set Learn
DESCRIPTION:
URL:https://wps.sd54.bc.ca/event/ready-set-learn/
END:VEVENT
BEGIN:VEVENT
DTSTART;TZID=America/Vancouver:20240515T190000
DTEND;TZID=America/Vancouver:20240515T210000
DTSTAMP:20260421T051037
CREATED:20240503T195224Z
LAST-MODIFIED:20240503T195227Z
UID:10000051-1715799600-1715806800@wps.sd54.bc.ca
SUMMARY:PAC Meeting
DESCRIPTION:
URL:https://wps.sd54.bc.ca/event/pac-meeting-9/
END:VEVENT
BEGIN:VEVENT
DTSTART;TZID=America/Vancouver:20240516T120000
DTEND;TZID=America/Vancouver:20240516T150000
DTSTAMP:20260421T051037
CREATED:20240503T195402Z
LAST-MODIFIED:20240503T195406Z
UID:10000052-1715860800-1715871600@wps.sd54.bc.ca
SUMMARY:Jump Rope For Heart
DESCRIPTION:
URL:https://wps.sd54.bc.ca/event/jump-rope-for-heart/
END:VEVENT
BEGIN:VEVENT
DTSTART;TZID=America/Vancouver:20240517T080000
DTEND;TZID=America/Vancouver:20240517T170000
DTSTAMP:20260421T051037
CREATED:20240503T195530Z
LAST-MODIFIED:20240503T195530Z
UID:10000053-1715932800-1715965200@wps.sd54.bc.ca
SUMMARY:NID Day - Students do not attend
DESCRIPTION:
URL:https://wps.sd54.bc.ca/event/nid-day-students-do-not-attend/
END:VEVENT
BEGIN:VEVENT
DTSTART;VALUE=DATE:20240522
DTEND;VALUE=DATE:20240523
DTSTAMP:20260421T051037
CREATED:20240426T174419Z
LAST-MODIFIED:20240426T174419Z
UID:10000048-1716336000-1716422399@wps.sd54.bc.ca
SUMMARY:Class Photo Day
DESCRIPTION:
URL:https://wps.sd54.bc.ca/event/class-photo-day/
END:VEVENT
BEGIN:VEVENT
DTSTART;TZID=America/Vancouver:20240522T090000
DTEND;TZID=America/Vancouver:20240522T170000
DTSTAMP:20260421T051037
CREATED:20240503T195803Z
LAST-MODIFIED:20240503T195902Z
UID:10000054-1716368400-1716397200@wps.sd54.bc.ca
SUMMARY:Mountain West Studios - class photos
DESCRIPTION:
URL:https://wps.sd54.bc.ca/event/mountain-west-studios-class-photos/
END:VEVENT
BEGIN:VEVENT
DTSTART;TZID=America/Vancouver:20240524T080000
DTEND;TZID=America/Vancouver:20240524T170000
DTSTAMP:20260421T051037
CREATED:20240503T201045Z
LAST-MODIFIED:20240503T201045Z
UID:10000058-1716537600-1716570000@wps.sd54.bc.ca
SUMMARY:Walnut Park Track Meet
DESCRIPTION:
URL:https://wps.sd54.bc.ca/event/walnut-park-track-meet/
END:VEVENT
BEGIN:VEVENT
DTSTART;TZID=America/Vancouver:20240530T080000
DTEND;TZID=America/Vancouver:20240530T170000
DTSTAMP:20260421T051037
CREATED:20240503T200536Z
LAST-MODIFIED:20240503T201253Z
UID:10000057-1717056000-1717088400@wps.sd54.bc.ca
SUMMARY:Welcome to Kindergarten
DESCRIPTION:
URL:https://wps.sd54.bc.ca/event/welcome-to-kindergarten-2/
END:VEVENT
END:VCALENDAR