BEGIN:VCALENDAR
VERSION:2.0
PRODID:-//Walnut Park Elementary - ECPv6.15.20//NONSGML v1.0//EN
CALSCALE:GREGORIAN
METHOD:PUBLISH
X-WR-CALNAME:Walnut Park Elementary
X-ORIGINAL-URL:https://wps.sd54.bc.ca
X-WR-CALDESC:Events for Walnut Park Elementary
REFRESH-INTERVAL;VALUE=DURATION:PT1H
X-Robots-Tag:noindex
X-PUBLISHED-TTL:PT1H
BEGIN:VTIMEZONE
TZID:America/Vancouver
BEGIN:DAYLIGHT
TZOFFSETFROM:-0800
TZOFFSETTO:-0700
TZNAME:PDT
DTSTART:20220313T100000
END:DAYLIGHT
BEGIN:STANDARD
TZOFFSETFROM:-0700
TZOFFSETTO:-0800
TZNAME:PST
DTSTART:20221106T090000
END:STANDARD
BEGIN:DAYLIGHT
TZOFFSETFROM:-0800
TZOFFSETTO:-0700
TZNAME:PDT
DTSTART:20230312T100000
END:DAYLIGHT
BEGIN:STANDARD
TZOFFSETFROM:-0700
TZOFFSETTO:-0800
TZNAME:PST
DTSTART:20231105T090000
END:STANDARD
BEGIN:DAYLIGHT
TZOFFSETFROM:-0800
TZOFFSETTO:-0700
TZNAME:PDT
DTSTART:20240310T100000
END:DAYLIGHT
BEGIN:STANDARD
TZOFFSETFROM:-0700
TZOFFSETTO:-0800
TZNAME:PST
DTSTART:20241103T090000
END:STANDARD
END:VTIMEZONE
BEGIN:VEVENT
DTSTART;TZID=America/Vancouver:20231204T190000
DTEND;TZID=America/Vancouver:20231204T203000
DTSTAMP:20260421T054105
CREATED:20231120T193714Z
LAST-MODIFIED:20231120T193714Z
UID:10000024-1701716400-1701721800@wps.sd54.bc.ca
SUMMARY:PAC Meeting
DESCRIPTION:multipurpose room
URL:https://wps.sd54.bc.ca/event/pac-meeting-2/
END:VEVENT
BEGIN:VEVENT
DTSTART;TZID=America/Vancouver:20231206T170000
DTEND;TZID=America/Vancouver:20231206T170000
DTSTAMP:20260421T054105
CREATED:20231128T173459Z
LAST-MODIFIED:20231128T173459Z
UID:10000032-1701882000-1701882000@wps.sd54.bc.ca
SUMMARY:Carolfest
DESCRIPTION:
URL:https://wps.sd54.bc.ca/event/carolfest/
END:VEVENT
BEGIN:VEVENT
DTSTART;TZID=America/Vancouver:20231214T173000
DTEND;TZID=America/Vancouver:20231214T213000
DTSTAMP:20260421T054105
CREATED:20231120T191400Z
LAST-MODIFIED:20231120T191400Z
UID:10000021-1702575000-1702589400@wps.sd54.bc.ca
SUMMARY:Walnut Park Christmas Concert
DESCRIPTION:
URL:https://wps.sd54.bc.ca/event/walnut-park-christmas-concert/
END:VEVENT
BEGIN:VEVENT
DTSTART;TZID=America/Vancouver:20231219T080000
DTEND;TZID=America/Vancouver:20231219T170000
DTSTAMP:20260421T054105
CREATED:20231120T194421Z
LAST-MODIFIED:20231120T194421Z
UID:10000030-1702972800-1703005200@wps.sd54.bc.ca
SUMMARY:Last Day before Christmas Holidays
DESCRIPTION:
URL:https://wps.sd54.bc.ca/event/last-day-before-christmas-holidays/
END:VEVENT
BEGIN:VEVENT
DTSTART;TZID=America/Vancouver:20231219T080000
DTEND;TZID=America/Vancouver:20231219T170000
DTSTAMP:20260421T054105
CREATED:20231120T194450Z
LAST-MODIFIED:20231120T194635Z
UID:10000031-1702972800-1703005200@wps.sd54.bc.ca
SUMMARY:Reports go home
DESCRIPTION:
URL:https://wps.sd54.bc.ca/event/report-cards-go-home/
END:VEVENT
END:VCALENDAR